BEGIN:VCALENDAR
VERSION:2.0
PRODID:-//Program Studi Kedokteran
CALSCALE:GREGORIAN
METHOD:PUBLISH
X-WR-CALNAME:Program Studi Kedokteran
X-ORIGINAL-URL:https://prodikedokteran.fk.uns.ac.id/event/konsultasi-rencana-studi-krs-mahasiswa-2/
X-WR-CALDESC:Konsultasi Rencana Studi (KRS) Mahasiswa
BEGIN:VEVENT
DTSTART:20250815T000000
DTEND:20250823T000000
SUMMARY:Konsultasi Rencana Studi (KRS) Mahasiswa
DESCRIPTION:
LOCATION:
END:VEVENT
END:VCALENDAR
