BEGIN:VCALENDAR
VERSION:2.0
PRODID:-//Program Studi Kedokteran
CALSCALE:GREGORIAN
METHOD:PUBLISH
X-WR-CALNAME:Program Studi Kedokteran
X-ORIGINAL-URL:https://prodikedokteran.fk.uns.ac.id/event/masa-pembelajaran-uji-kompetensi-remidial-teaching-uts-dan-uas/
X-WR-CALDESC:Masa pembelajaran, uji kompetensi, remidial teaching, UTS dan UAS
BEGIN:VEVENT
DTSTART:20250217T000000
DTEND:20250630T000000
SUMMARY:Masa pembelajaran, uji kompetensi, remidial teaching, UTS dan UAS
DESCRIPTION:
LOCATION:
END:VEVENT
END:VCALENDAR
