BEGIN:VCALENDAR
VERSION:2.0
PRODID:-//Program Studi Kedokteran
CALSCALE:GREGORIAN
METHOD:PUBLISH
X-WR-CALNAME:Program Studi Kedokteran
X-ORIGINAL-URL:https://prodikedokteran.fk.uns.ac.id/event/pelaksanaan-semester-padat-padat-reguler/
X-WR-CALDESC:Pelaksanaan Semester Padat ( Padat Reguler )
BEGIN:VEVENT
DTSTART:20220314T000000
DTEND:20220630T000000
SUMMARY:Pelaksanaan Semester Padat ( Padat Reguler )
DESCRIPTION:
LOCATION:
END:VEVENT
END:VCALENDAR
