BEGIN:VCALENDAR
VERSION:2.0
PRODID:-//Program Studi Kedokteran
CALSCALE:GREGORIAN
METHOD:PUBLISH
X-WR-CALNAME:Program Studi Kedokteran
X-ORIGINAL-URL:https://prodikedokteran.fk.uns.ac.id/event/pengisian-dan-konsultasi-krs-semester-padat-2/
X-WR-CALDESC:Pengisian dan konsultasi KRS semester padat.
BEGIN:VEVENT
DTSTART:20220214T000000
DTEND:20220221T000000
SUMMARY:Pengisian dan konsultasi KRS semester padat.
DESCRIPTION:
LOCATION:
END:VEVENT
END:VCALENDAR
