BEGIN:VCALENDAR
VERSION:2.0
PRODID:-//Program Studi Kedokteran
CALSCALE:GREGORIAN
METHOD:PUBLISH
X-WR-CALNAME:Program Studi Kedokteran
X-ORIGINAL-URL:https://prodikedokteran.fk.uns.ac.id/event/pengisian-dan-konsultasi-krs-semester-padat/
X-WR-CALDESC:Pengisian dan Konsultasi KRS Semester Padat
BEGIN:VEVENT
DTSTART:20210209T000000
DTEND:20210219T000000
SUMMARY:Pengisian dan Konsultasi KRS Semester Padat
DESCRIPTION:
LOCATION:
END:VEVENT
END:VCALENDAR
